BEGIN:VCALENDAR
VERSION:2.0
PRODID:-//K-LINE Hungary - ECPv6.15.12.2//NONSGML v1.0//EN
CALSCALE:GREGORIAN
METHOD:PUBLISH
X-ORIGINAL-URL:https://kline-hungary.hu
X-WR-CALDESC:Események K-LINE Hungary
REFRESH-INTERVAL;VALUE=DURATION:PT1H
X-Robots-Tag:noindex
X-PUBLISHED-TTL:PT1H
BEGIN:VTIMEZONE
TZID:UTC
BEGIN:STANDARD
TZOFFSETFROM:+0000
TZOFFSETTO:+0000
TZNAME:UTC
DTSTART:20250101T000000
END:STANDARD
END:VTIMEZONE
BEGIN:VEVENT
DTSTART;VALUE=DATE:20260904
DTEND;VALUE=DATE:20260905
DTSTAMP:20260425T120234
CREATED:20260226T114034Z
LAST-MODIFIED:20260226T114349Z
UID:1785-1788480000-1788566399@kline-hungary.hu
SUMMARY:The Most Innovative Solutions in Clear Aligner Orthodontics
DESCRIPTION:Előadók: \nDr. Sherif Khandil\, K Line Europe CEO\, (fogorvos\, fogszabályozás szakorvosa)\nDr. Hadi Dehghani\, a K clear magyarországi szakmai vezetője\, (fogorvos\, fogszabályozás szakorvosa)\nDr. Miguel Teixeira\, Clear X vezetője\, (fogorvos\, aligner szakorvos)\nDr. Sameh Talaat\, a Bonn-i egyetem oktató orvosa (Phd.\, fogorvos\, fogszabályozàs szakorvosa\,) \nProgram: \n\n\n\n08:30-09:00 Regisztráció\n30p\n\n\n09:00-09:45 Dr Sherif Khandil: History of our brand and background\n45p\n\n\n09:45-10:30 Dr Sherif Khandil: Clear Aligners in the future\n45p\n\n\n10:30-10:45 Szünet\n15p\n\n\n10:45-11:30 Dr Hadi Dehghani: Breif history of aligners its importance and differences with fixed braces\n45p\n\n\n11:30-12:15 Dr Hadi Dehghani: Attachments and staging in aligners.\n45p\n\n\n12:15-13:15 Ebédszünet\n60p\n\n\n13:15-14:00 Dr Miguel Teixeira: Innovation in clear aligners in 2026\n45p\n\n\n14:45-15:30 Dr Miguel Teixeira: 4D technology – What is the difference?\n45p\n\n\n15:30-16:15 Dr Sameh Talaat: Practise in Clear Aligners\n45p\n\n\n15:30-16:00 Dr Sameh Talaat: Vizsga és kerekasztal megbeszélés\n30p\n\n\n\nRészvételi díj: 59 900 Ft
URL:https://kline-hungary.hu/event/the-most-innovative-solutions-in-clear-aligner-orthodontics/
END:VEVENT
BEGIN:VEVENT
DTSTART;VALUE=DATE:20260906
DTEND;VALUE=DATE:20260907
DTSTAMP:20260425T120234
CREATED:20251119T210535Z
LAST-MODIFIED:20251120T020716Z
UID:1395-1788652800-1788739199@kline-hungary.hu
SUMMARY:Köszönjük a részvételt az első hivatalos ClearX előadáson!
DESCRIPTION:Hamarosan érkezünk a 2026-os konferencia tervezettel! \n  \nKöszönjük az előadásokat:\n\n\nDr.Gurdán Zsuzsanna tanszékvezetőnek\n[Pécsi Egyetem]\n\n\nDr. Sherif Khadilnak \n[Kline Europe]\n\n\nDr. Miguelnek\n[ClearX]\n\nDr. Sameh Talaatnak\n[Kline Europe]
URL:https://kline-hungary.hu/event/koszonjuk-a-reszvetelt-az-elso-hivatalos-clearx-eloadason/
END:VEVENT
END:VCALENDAR