BEGIN:VCALENDAR
VERSION:2.0
PRODID:-//K-LINE Hungary - ECPv6.15.12.2//NONSGML v1.0//EN
CALSCALE:GREGORIAN
METHOD:PUBLISH
X-WR-CALNAME:K-LINE Hungary
X-ORIGINAL-URL:https://kline-hungary.hu
X-WR-CALDESC:Események K-LINE Hungary
REFRESH-INTERVAL;VALUE=DURATION:PT1H
X-Robots-Tag:noindex
X-PUBLISHED-TTL:PT1H
BEGIN:VTIMEZONE
TZID:UTC
BEGIN:STANDARD
TZOFFSETFROM:+0000
TZOFFSETTO:+0000
TZNAME:UTC
DTSTART:20250101T000000
END:STANDARD
END:VTIMEZONE
BEGIN:VEVENT
DTSTART;TZID=UTC:20260327T180000
DTEND;TZID=UTC:20260327T190000
DTSTAMP:20260424T131617
CREATED:20260226T113751Z
LAST-MODIFIED:20260226T113751Z
UID:1781-1774634400-1774638000@kline-hungary.hu
SUMMARY:CLEARX Webinar
DESCRIPTION:Online szakmai előadás a ClearX rendszer alkalmazásáról\, a 4D technológia működéséről és az átlátszó fogszabályozás aktuális lehetőségeiről. \nElőadó: Dr. Hadi Dehghani\, a K Clear magyarországi szakmai vezetője\, fogorvos\, fogszabályozás szakorvosa.
URL:https://kline-hungary.hu/event/clearx-webinar/
END:VEVENT
END:VCALENDAR